Package: OMICsPCA Version: 1.27.0 Command: /Library/Frameworks/R.framework/Resources/bin/R CMD build --keep-empty-dirs --no-resave-data OMICsPCA StartedAt: 2025-05-07 17:46:47 -0400 (Wed, 07 May 2025) EndedAt: 2025-05-07 17:49:02 -0400 (Wed, 07 May 2025) EllapsedTime: 134.8 seconds RetCode: 0 Status: OK PackageFile: OMICsPCA_1.27.0.tar.gz PackageFileSize: 7.776 MiB