Package: OMICsPCA Version: 1.25.0 Command: /home/biocbuild/R/R/bin/R CMD build --keep-empty-dirs --no-resave-data OMICsPCA StartedAt: 2025-01-29 00:57:42 -0000 (Wed, 29 Jan 2025) EndedAt: 2025-01-29 01:01:37 -0000 (Wed, 29 Jan 2025) EllapsedTime: 235.3 seconds RetCode: 0 Status: OK PackageFile: OMICsPCA_1.25.0.tar.gz PackageFileSize: 2.415 MiB