Package: OMICsPCA Version: 1.27.1 Command: rm -rf OMICsPCA.buildbin-libdir && mkdir OMICsPCA.buildbin-libdir && /Users/biocbuild/BBS/utils/build-universal.sh OMICsPCA_1.27.1.tar.gz /Library/Frameworks/R.framework/Resources/bin/R OMICsPCA.buildbin-libdir StartedAt: 2025-10-02 23:13:38 -0400 (Thu, 02 Oct 2025) EndedAt: 2025-10-02 23:14:01 -0400 (Thu, 02 Oct 2025) EllapsedTime: 22.5 seconds RetCode: 0 Status: OK PackageFile: OMICsPCA_1.27.1.tgz PackageFileSize: 7.841 MiB