Package: OLINgui Version: 1.83.0 Command: /home/biocbuild/R/R/bin/R CMD build --keep-empty-dirs --no-resave-data OLINgui StartedAt: 2025-10-03 01:55:15 -0000 (Fri, 03 Oct 2025) EndedAt: 2025-10-03 01:55:25 -0000 (Fri, 03 Oct 2025) EllapsedTime: 10.0 seconds RetCode: 0 Status: OK PackageFile: OLINgui_1.83.0.tar.gz PackageFileSize: 366.2 KiB