Package: OLINgui Version: 1.81.0 Command: rm -rf OLINgui.buildbin-libdir && mkdir OLINgui.buildbin-libdir && E:\biocbuild\bbs-3.21-bioc\R\bin\R.exe CMD INSTALL --build --library=OLINgui.buildbin-libdir OLINgui_1.81.0.tar.gz StartedAt: 2025-02-17 08:04:15 -0500 (Mon, 17 Feb 2025) EndedAt: 2025-02-17 08:04:22 -0500 (Mon, 17 Feb 2025) EllapsedTime: 7.3 seconds RetCode: 0 Status: OK PackageFile: OLINgui_1.81.0.zip PackageFileSize: 225.7 KiB