Package: OLIN Version: 1.85.0 Command: rm -rf OLIN.buildbin-libdir && mkdir OLIN.buildbin-libdir && E:\biocbuild\bbs-3.21-bioc\R\bin\R.exe CMD INSTALL --build --library=OLIN.buildbin-libdir OLIN_1.85.0.tar.gz StartedAt: 2025-02-17 08:04:13 -0500 (Mon, 17 Feb 2025) EndedAt: 2025-02-17 08:04:28 -0500 (Mon, 17 Feb 2025) EllapsedTime: 14.6 seconds RetCode: 0 Status: OK PackageFile: OLIN_1.85.0.zip PackageFileSize: 2.591 MiB