Package: OLIN Version: 1.85.0 Command: /Library/Frameworks/R.framework/Resources/bin/R CMD check --install=check:OLIN.install-out.txt --library=/Library/Frameworks/R.framework/Resources/library --no-vignettes --timings OLIN_1.85.0.tar.gz StartedAt: 2025-02-20 20:32:02 -0500 (Thu, 20 Feb 2025) EndedAt: 2025-02-20 20:32:25 -0500 (Thu, 20 Feb 2025) EllapsedTime: 23.3 seconds RetCode: 0 Status: OK CheckDir: OLIN.Rcheck Warnings: 0