Package: OGRE Version: 1.13.1 Command: chmod a+r OGRE -R && F:\biocbuild\bbs-3.22-bioc\R\bin\R.exe CMD build --keep-empty-dirs --no-resave-data OGRE StartedAt: 2025-08-14 21:58:21 -0400 (Thu, 14 Aug 2025) EndedAt: 2025-08-14 22:01:01 -0400 (Thu, 14 Aug 2025) EllapsedTime: 160.0 seconds RetCode: 0 Status: OK PackageFile: OGRE_1.13.1.tar.gz PackageFileSize: 1.533 MiB