Package: OGRE Version: 1.11.0 Command: rm -rf OGRE.buildbin-libdir && mkdir OGRE.buildbin-libdir && E:\biocbuild\bbs-3.21-bioc\R\bin\R.exe CMD INSTALL --build --library=OGRE.buildbin-libdir OGRE_1.11.0.tar.gz StartedAt: 2025-02-17 08:04:06 -0500 (Mon, 17 Feb 2025) EndedAt: 2025-02-17 08:05:04 -0500 (Mon, 17 Feb 2025) EllapsedTime: 57.7 seconds RetCode: 0 Status: OK PackageFile: OGRE_1.11.0.zip PackageFileSize: 1.059 MiB