Package: OGRE Version: 1.11.0 Command: /home/biocbuild/R/R/bin/R CMD build --keep-empty-dirs --no-resave-data OGRE StartedAt: 2025-01-29 00:56:21 -0000 (Wed, 29 Jan 2025) EndedAt: 2025-01-29 00:59:26 -0000 (Wed, 29 Jan 2025) EllapsedTime: 185.3 seconds RetCode: 0 Status: OK PackageFile: OGRE_1.11.0.tar.gz PackageFileSize: 1.577 MiB