Package: OGRE Version: 1.11.0 Command: /Library/Frameworks/R.framework/Resources/bin/R CMD INSTALL OGRE StartedAt: 2025-02-05 15:17:03 -0500 (Wed, 05 Feb 2025) EndedAt: 2025-02-05 15:17:24 -0500 (Wed, 05 Feb 2025) EllapsedTime: 20.5 seconds RetCode: 0 Status: OK