Package: OGRE Version: 1.11.0 Command: /Library/Frameworks/R.framework/Resources/bin/R CMD check --install=check:OGRE.install-out.txt --library=/Library/Frameworks/R.framework/Resources/library --no-vignettes --timings OGRE_1.11.0.tar.gz StartedAt: 2025-02-05 20:34:35 -0500 (Wed, 05 Feb 2025) EndedAt: 2025-02-05 20:37:57 -0500 (Wed, 05 Feb 2025) EllapsedTime: 201.5 seconds RetCode: 0 Status: OK CheckDir: OGRE.Rcheck Warnings: 0