Package: OCplus Version: 1.83.0 Command: /home/biocbuild/bbs-3.22-bioc/R/bin/R CMD INSTALL OCplus StartedAt: 2025-10-17 15:13:26 -0400 (Fri, 17 Oct 2025) EndedAt: 2025-10-17 15:13:33 -0400 (Fri, 17 Oct 2025) EllapsedTime: 7.6 seconds RetCode: 0 Status: OK