Package: OCplus Version: 1.83.0 Command: /home/biocbuild/bbs-3.22-bioc/R/bin/R CMD build --keep-empty-dirs --no-resave-data --md5 OCplus StartedAt: 2025-10-16 20:06:52 -0400 (Thu, 16 Oct 2025) EndedAt: 2025-10-16 20:07:15 -0400 (Thu, 16 Oct 2025) EllapsedTime: 23.0 seconds RetCode: 0 Status: OK PackageFile: OCplus_1.83.0.tar.gz PackageFileSize: 9.587 MiB