Package: OCplus Version: 1.83.0 Command: /Library/Frameworks/R.framework/Resources/bin/R CMD INSTALL OCplus StartedAt: 2025-05-27 15:14:55 -0400 (Tue, 27 May 2025) EndedAt: 2025-05-27 15:15:09 -0400 (Tue, 27 May 2025) EllapsedTime: 14.1 seconds RetCode: 0 Status: OK