Package: OCplus Version: 1.83.0 Maintainer: Alexander Ploner MaintainerEmail: Alexander.Ploner at ki.se git_url: https://git.bioconductor.org/packages/OCplus git_branch: devel git_last_commit: d886aea git_last_commit_date: 2025-04-15 09:38:07 -0400 (Tue, 15 Apr 2025)