Package: NormqPCR Version: 1.55.0 Command: chmod a+r NormqPCR -R && F:\biocbuild\bbs-3.22-bioc\R\bin\R.exe CMD build --keep-empty-dirs --no-resave-data NormqPCR StartedAt: 2025-08-14 21:57:03 -0400 (Thu, 14 Aug 2025) EndedAt: 2025-08-14 21:57:35 -0400 (Thu, 14 Aug 2025) EllapsedTime: 32.2 seconds RetCode: 0 Status: OK PackageFile: NormqPCR_1.55.0.tar.gz PackageFileSize: 292.9 KiB