Package: NormqPCR Version: 1.55.0 Command: rm -rf NormqPCR.buildbin-libdir && mkdir NormqPCR.buildbin-libdir && F:\biocbuild\bbs-3.22-bioc\R\bin\R.exe CMD INSTALL --build --library=NormqPCR.buildbin-libdir NormqPCR_1.55.0.tar.gz StartedAt: 2025-08-15 10:51:28 -0400 (Fri, 15 Aug 2025) EndedAt: 2025-08-15 10:51:51 -0400 (Fri, 15 Aug 2025) EllapsedTime: 23.0 seconds RetCode: 0 Status: OK PackageFile: NormqPCR_1.55.0.zip PackageFileSize: 378.5 KiB