Package: NormqPCR Version: 1.55.0 Command: /home/biocbuild/bbs-3.22-bioc/R/bin/R CMD INSTALL NormqPCR StartedAt: 2025-10-01 15:15:34 -0400 (Wed, 01 Oct 2025) EndedAt: 2025-10-01 15:15:43 -0400 (Wed, 01 Oct 2025) EllapsedTime: 9.9 seconds RetCode: 0 Status: OK