Package: NormqPCR Version: 1.55.0 Command: /home/biocbuild/bbs-3.22-bioc/R/bin/R CMD build --keep-empty-dirs --no-resave-data --md5 NormqPCR StartedAt: 2025-10-01 19:24:44 -0400 (Wed, 01 Oct 2025) EndedAt: 2025-10-01 19:24:58 -0400 (Wed, 01 Oct 2025) EllapsedTime: 14.0 seconds RetCode: 0 Status: OK PackageFile: NormqPCR_1.55.0.tar.gz PackageFileSize: 419.3 KiB