Package: NormalyzerDE Version: 1.25.0 Command: E:\biocbuild\bbs-3.21-bioc\R\bin\R.exe CMD INSTALL NormalyzerDE StartedAt: 2025-02-05 16:33:07 -0500 (Wed, 05 Feb 2025) EndedAt: 2025-02-05 16:35:21 -0500 (Wed, 05 Feb 2025) EllapsedTime: 134.1 seconds RetCode: 0 Status: OK