Package: NormalyzerDE Version: 1.25.0 Command: /home/biocbuild/bbs-3.21-bioc/R/bin/R CMD check --install=check:NormalyzerDE.install-out.txt --library=/home/biocbuild/bbs-3.21-bioc/R/site-library --timings NormalyzerDE_1.25.0.tar.gz StartedAt: 2025-02-06 00:53:33 -0500 (Thu, 06 Feb 2025) EndedAt: 2025-02-06 00:57:54 -0500 (Thu, 06 Feb 2025) EllapsedTime: 260.5 seconds RetCode: 0 Status: WARNINGS CheckDir: NormalyzerDE.Rcheck Warnings: 1