Package: NormalyzerDE Version: 1.27.0 Command: /Library/Frameworks/R.framework/Resources/bin/R CMD INSTALL NormalyzerDE StartedAt: 2025-04-30 15:31:59 -0400 (Wed, 30 Apr 2025) EndedAt: 2025-04-30 15:32:32 -0400 (Wed, 30 Apr 2025) EllapsedTime: 32.9 seconds RetCode: 0 Status: OK