Package: NoRCE Version: 1.19.0 Command: E:\biocbuild\bbs-3.21-bioc\R\bin\R.exe CMD check --no-multiarch --install=check:NoRCE.install-out.txt --library=E:\biocbuild\bbs-3.21-bioc\R\library --no-vignettes --timings NoRCE_1.19.0.tar.gz StartedAt: 2025-02-04 04:06:47 -0500 (Tue, 04 Feb 2025) EndedAt: 2025-02-04 04:12:19 -0500 (Tue, 04 Feb 2025) EllapsedTime: 332.6 seconds RetCode: 0 Status: OK CheckDir: NoRCE.Rcheck Warnings: 0