Package: NoRCE Version: 1.19.0 Command: /home/biocbuild/bbs-3.21-bioc/R/bin/R CMD build --keep-empty-dirs --no-resave-data NoRCE StartedAt: 2025-02-03 18:36:09 -0500 (Mon, 03 Feb 2025) EndedAt: 2025-02-03 18:37:14 -0500 (Mon, 03 Feb 2025) EllapsedTime: 65.2 seconds RetCode: 0 Status: OK PackageFile: NoRCE_1.19.0.tar.gz PackageFileSize: 2.025 MiB