Package: NoRCE Version: 1.19.0 Command: /Library/Frameworks/R.framework/Resources/bin/R CMD build --keep-empty-dirs --no-resave-data NoRCE StartedAt: 2025-02-03 17:44:26 -0500 (Mon, 03 Feb 2025) EndedAt: 2025-02-03 17:44:48 -0500 (Mon, 03 Feb 2025) EllapsedTime: 21.3 seconds RetCode: 0 Status: OK PackageFile: NoRCE_1.19.0.tar.gz PackageFileSize: 2.025 MiB