Package: NewWave Version: 1.19.0 Command: chmod a+r NewWave -R && F:\biocbuild\bbs-3.22-bioc\R\bin\R.exe CMD build --keep-empty-dirs --no-resave-data NewWave StartedAt: 2025-08-14 21:55:41 -0400 (Thu, 14 Aug 2025) EndedAt: 2025-08-14 21:59:23 -0400 (Thu, 14 Aug 2025) EllapsedTime: 222.1 seconds RetCode: 0 Status: OK PackageFile: NewWave_1.19.0.tar.gz PackageFileSize: 49.78 KiB