Package: NewWave Version: 1.19.0 Command: /home/biocbuild/bbs-3.22-bioc/R/bin/R CMD INSTALL NewWave StartedAt: 2025-10-03 15:52:00 -0400 (Fri, 03 Oct 2025) EndedAt: 2025-10-03 15:52:26 -0400 (Fri, 03 Oct 2025) EllapsedTime: 25.9 seconds RetCode: 0 Status: OK