Package: NewWave Version: 1.19.0 Command: /home/biocbuild/bbs-3.22-bioc/R/bin/R CMD build --keep-empty-dirs --no-resave-data --md5 NewWave StartedAt: 2025-10-03 19:00:49 -0400 (Fri, 03 Oct 2025) EndedAt: 2025-10-03 19:02:53 -0400 (Fri, 03 Oct 2025) EllapsedTime: 124.1 seconds RetCode: 0 Status: OK PackageFile: NewWave_1.19.0.tar.gz PackageFileSize: 79.57 KiB