Package: NewWave Version: 1.19.0 Maintainer: Federico Agostinis MaintainerEmail: federico.agostinis at outlook.com git_url: https://git.bioconductor.org/packages/NewWave git_branch: devel git_last_commit: ed74f0b git_last_commit_date: 2025-04-15 12:14:43 -0400 (Tue, 15 Apr 2025)