Package: NeuCA Version: 1.13.1 Command: F:\biocbuild\bbs-3.22-bioc\R\bin\R.exe CMD INSTALL NeuCA StartedAt: 2025-04-08 16:24:30 -0400 (Tue, 08 Apr 2025) EndedAt: 2025-04-08 16:25:03 -0400 (Tue, 08 Apr 2025) EllapsedTime: 33.0 seconds RetCode: 0 Status: OK