Package: NeuCA Version: 1.13.0 Command: E:\biocbuild\bbs-3.21-bioc\R\bin\R.exe CMD INSTALL NeuCA StartedAt: 2025-02-04 15:53:45 -0500 (Tue, 04 Feb 2025) EndedAt: 2025-02-04 15:54:20 -0500 (Tue, 04 Feb 2025) EllapsedTime: 34.4 seconds RetCode: 0 Status: OK