Package: NeuCA Version: 1.13.0 Command: chmod a+r NeuCA -R && E:\biocbuild\bbs-3.21-bioc\R\bin\R.exe CMD build --keep-empty-dirs --no-resave-data NeuCA StartedAt: 2025-02-04 20:23:17 -0500 (Tue, 04 Feb 2025) EndedAt: 2025-02-04 20:25:18 -0500 (Tue, 04 Feb 2025) EllapsedTime: 121.1 seconds RetCode: 1 Status: ERROR PackageFile: None PackageFileSize: NA