Package: NeuCA Version: 1.13.0 Command: /home/biocbuild/bbs-3.21-bioc/R/bin/R CMD INSTALL NeuCA StartedAt: 2025-02-10 15:32:12 -0500 (Mon, 10 Feb 2025) EndedAt: 2025-02-10 15:32:37 -0500 (Mon, 10 Feb 2025) EllapsedTime: 25.3 seconds RetCode: 0 Status: OK