Package: NeuCA Version: 1.13.0 Command: /home/biocbuild/bbs-3.21-bioc/R/bin/R CMD build --keep-empty-dirs --no-resave-data NeuCA StartedAt: 2025-02-10 18:34:16 -0500 (Mon, 10 Feb 2025) EndedAt: 2025-02-10 18:35:42 -0500 (Mon, 10 Feb 2025) EllapsedTime: 85.1 seconds RetCode: 1 Status: ERROR PackageFile: None PackageFileSize: NA