Package: NeuCA Version: 1.13.1 Command: /Library/Frameworks/R.framework/Resources/bin/R CMD build --keep-empty-dirs --no-resave-data NeuCA StartedAt: 2025-04-13 17:43:33 -0400 (Sun, 13 Apr 2025) EndedAt: 2025-04-13 17:44:33 -0400 (Sun, 13 Apr 2025) EllapsedTime: 60.6 seconds RetCode: 1 Status: ERROR PackageFile: None PackageFileSize: NA