Package: NetSAM Version: 1.49.0 Command: /Library/Frameworks/R.framework/Resources/bin/R CMD build --keep-empty-dirs --no-resave-data NetSAM StartedAt: 2025-05-04 17:43:09 -0400 (Sun, 04 May 2025) EndedAt: 2025-05-04 17:43:45 -0400 (Sun, 04 May 2025) EllapsedTime: 35.4 seconds RetCode: 0 Status: OK PackageFile: NetSAM_1.49.0.tar.gz PackageFileSize: 1.035 MiB