Package: NetSAM Version: 1.49.0 Command: /Library/Frameworks/R.framework/Resources/bin/R CMD INSTALL NetSAM StartedAt: 2025-05-06 15:23:26 -0400 (Tue, 06 May 2025) EndedAt: 2025-05-06 15:23:35 -0400 (Tue, 06 May 2025) EllapsedTime: 9.7 seconds RetCode: 0 Status: OK