Package: NetSAM Version: 1.49.0 Command: /Library/Frameworks/R.framework/Resources/bin/R CMD build --keep-empty-dirs --no-resave-data NetSAM StartedAt: 2025-05-07 17:10:55 -0400 (Wed, 07 May 2025) EndedAt: 2025-05-07 17:11:09 -0400 (Wed, 07 May 2025) EllapsedTime: 14.2 seconds RetCode: 0 Status: OK PackageFile: NetSAM_1.49.0.tar.gz PackageFileSize: 1.033 MiB