Package: NetPathMiner Version: 1.43.1 Command: /home/biocbuild/R/R/bin/R CMD check --install=check:NetPathMiner.install-out.txt --library=/home/biocbuild/R/R/site-library --no-vignettes --timings NetPathMiner_1.43.1.tar.gz StartedAt: 2025-01-28 13:15:52 -0000 (Tue, 28 Jan 2025) EndedAt: 2025-01-28 13:17:39 -0000 (Tue, 28 Jan 2025) EllapsedTime: 107.2 seconds RetCode: 0 Status: OK CheckDir: NetPathMiner.Rcheck Warnings: 0