Package: NetActivity Version: 1.13.0 Command: /home/biocbuild/bbs-3.23-bioc/R/bin/R CMD INSTALL NetActivity StartedAt: 2025-11-06 15:30:03 -0500 (Thu, 06 Nov 2025) EndedAt: 2025-11-06 15:30:28 -0500 (Thu, 06 Nov 2025) EllapsedTime: 25.2 seconds RetCode: 0 Status: OK