Package: NetActivity Version: 1.13.0 Command: /home/biocbuild/bbs-3.23-bioc/R/bin/R CMD build --keep-empty-dirs --no-resave-data NetActivity StartedAt: 2025-11-05 19:00:59 -0500 (Wed, 05 Nov 2025) EndedAt: 2025-11-05 19:01:57 -0500 (Wed, 05 Nov 2025) EllapsedTime: 58.0 seconds RetCode: 0 Status: OK PackageFile: NetActivity_1.13.0.tar.gz PackageFileSize: 428.6 KiB