Package: NetActivity Version: 1.11.0 Command: /Library/Frameworks/R.framework/Resources/bin/R CMD INSTALL NetActivity StartedAt: 2025-10-19 15:31:21 -0400 (Sun, 19 Oct 2025) EndedAt: 2025-10-19 15:31:55 -0400 (Sun, 19 Oct 2025) EllapsedTime: 33.9 seconds RetCode: 0 Status: OK