Package: NetActivity Version: 1.11.0 Command: /Library/Frameworks/R.framework/Resources/bin/R CMD build --keep-empty-dirs --no-resave-data NetActivity StartedAt: 2025-10-19 18:29:05 -0400 (Sun, 19 Oct 2025) EndedAt: 2025-10-19 18:30:47 -0400 (Sun, 19 Oct 2025) EllapsedTime: 102.3 seconds RetCode: 0 Status: OK PackageFile: NetActivity_1.11.0.tar.gz PackageFileSize: 438 KiB