Package: NetActivity Version: 1.11.0 Command: rm -rf NetActivity.buildbin-libdir && mkdir NetActivity.buildbin-libdir && /Users/biocbuild/BBS/utils/build-universal.sh NetActivity_1.11.0.tar.gz /Library/Frameworks/R.framework/Resources/bin/R NetActivity.buildbin-libdir StartedAt: 2025-10-20 03:22:22 -0400 (Mon, 20 Oct 2025) EndedAt: 2025-10-20 03:22:59 -0400 (Mon, 20 Oct 2025) EllapsedTime: 37.0 seconds RetCode: 0 Status: OK PackageFile: NetActivity_1.11.0.tgz PackageFileSize: 447.2 KiB