Package: NetActivity Version: 1.11.0 Command: /Library/Frameworks/R.framework/Resources/bin/R CMD INSTALL NetActivity StartedAt: 2025-10-07 15:16:02 -0400 (Tue, 07 Oct 2025) EndedAt: 2025-10-07 15:16:12 -0400 (Tue, 07 Oct 2025) EllapsedTime: 10.3 seconds RetCode: 0 Status: OK