Package: NetActivity Version: 1.11.0 Command: /Library/Frameworks/R.framework/Resources/bin/R CMD build --keep-empty-dirs --no-resave-data NetActivity StartedAt: 2025-10-07 17:14:09 -0400 (Tue, 07 Oct 2025) EndedAt: 2025-10-07 17:14:36 -0400 (Tue, 07 Oct 2025) EllapsedTime: 26.3 seconds RetCode: 0 Status: OK PackageFile: NetActivity_1.11.0.tar.gz PackageFileSize: 438.2 KiB