Package: Nebulosa Version: 1.19.0 Maintainer: Jose Alquicira-Hernandez MaintainerEmail: alquicirajose at gmail.com git_url: https://git.bioconductor.org/packages/Nebulosa git_branch: devel git_last_commit: 76d9b6b git_last_commit_date: 2025-04-15 12:06:43 -0400 (Tue, 15 Apr 2025)