Package: NanoTube Version: 1.15.0 Command: chmod a+r NanoTube -R && F:\biocbuild\bbs-3.22-bioc\R\bin\R.exe CMD build --keep-empty-dirs --no-resave-data NanoTube StartedAt: 2025-08-14 21:53:07 -0400 (Thu, 14 Aug 2025) EndedAt: 2025-08-14 21:54:50 -0400 (Thu, 14 Aug 2025) EllapsedTime: 102.7 seconds RetCode: 0 Status: OK PackageFile: NanoTube_1.15.0.tar.gz PackageFileSize: 1.641 MiB