Package: NanoTube Version: 1.13.1 Command: chmod a+r NanoTube -R && E:\biocbuild\bbs-3.21-bioc\R\bin\R.exe CMD build --keep-empty-dirs --no-resave-data NanoTube StartedAt: 2025-02-16 20:11:50 -0500 (Sun, 16 Feb 2025) EndedAt: 2025-02-16 20:13:32 -0500 (Sun, 16 Feb 2025) EllapsedTime: 101.7 seconds RetCode: 0 Status: OK PackageFile: NanoTube_1.13.1.tar.gz PackageFileSize: 1.641 MiB